BEGIN:VCALENDAR
VERSION:2.0
PRODID:-//EFT and Matrix Reimprinting Training - ECPv6.15.17//NONSGML v1.0//EN
CALSCALE:GREGORIAN
METHOD:PUBLISH
X-WR-CALNAME:EFT and Matrix Reimprinting Training
X-ORIGINAL-URL:https://efttraining.com.au
X-WR-CALDESC:Events for EFT and Matrix Reimprinting Training
REFRESH-INTERVAL;VALUE=DURATION:PT1H
X-Robots-Tag:noindex
X-PUBLISHED-TTL:PT1H
BEGIN:VTIMEZONE
TZID:Australia/Brisbane
BEGIN:STANDARD
TZOFFSETFROM:+1000
TZOFFSETTO:+1000
TZNAME:AEST
DTSTART:20210101T000000
END:STANDARD
END:VTIMEZONE
BEGIN:VEVENT
DTSTART;TZID=Australia/Brisbane:20220130T093000
DTEND;TZID=Australia/Brisbane:20220131T173000
DTSTAMP:20260425T140738
CREATED:20210722T095315Z
LAST-MODIFIED:20211116T124855Z
UID:2616-1643535000-1643650200@efttraining.com.au
SUMMARY:Matrix Reimprinting for Specific Issues\, Seaford\, Victoria
DESCRIPTION:  \n  \nhttps://efttraining.com.au/wp-content/uploads/2019/12/Sue-Anne-Testamonila.mp4\nPre requisites: \nAttendance on the EFT Level 1 and 2 EFT Course and Matrix Reimprinting Foundation Practitioner Course \nPurpose of 2 days Specific Issues Training: \n*To have more in depth knowledge on topics such as: Allergies\, Phobias\, Relationships\, Life Issues\, Working with Serious Illness\, Grief. Plus Bonus content: I will share the protocol I have used with great success: ‘Healing and Integration of Parts’. \n*More practice and self awareness/healing \nAfter attending this course\, you will feel more confident in using MR for various topics plus experience more practice and personal healing to enhance your life and Practice moving forward. \n** By attending this 2 day event after the MR Foundation Practitioner Course\, you can fast track to Practitioner status. \nThis 4 days can be attending as an alternative to registration on the membership site (Saving around $170) and the need to watch about 17 hours of videos** \n \n \nFor more information\, availability or to reserve your seat\, please contact Caroline on M:0410417053  \nor  \nemail:  1111transform@gmail.com \nDisclaimer:\nAt EFTMRA (EFT and Matrix Reimprinting Academy) we do not provide medical or psychological advice\, professional diagnosis\, opinion\, treatment or services to you or to any other individual. The Practitioners/Trainers at EFTMRA provide general information for educational purposes only. The information provided is not a substitute for medical or professional care\, and you should not use the information in place of a visit\, call consultation or the advice of your physician or other healthcare provider. EFTMRA is not liable or responsible for any advice\, course of treatment\, diagnosis or any other information\, services or products you obtain through this Academy.\nAny person intending to take part in any of the services provided must inform the proprietor or one of the practitioners if they have any physical\, psychological or mental health issues of any kind prior to enrolment.\nThank you
URL:https://efttraining.com.au/event/matrix-reimprinting-for-specific-issues-seaford-victoria-2/
LOCATION:Liefde Wellness Centre\, 56 Hartnett Drive\, SEAFORD\, 3198\, Australia
CATEGORIES:Allergies,Allergies Phobias,Chronic Depression stress anxiety,Grief/Bereavement,Life issues,Relationship Issues,Surrogate healing
ATTACH;FMTTYPE=image/png:https://efttraining.com.au/wp-content/uploads/2020/06/Liefde-logo.png
ORGANIZER;CN="Caroline Dawson":MAILTO:1111transform@gmail.com
END:VEVENT
END:VCALENDAR