BEGIN:VCALENDAR
VERSION:2.0
PRODID:-//EFT and Matrix Reimprinting Training - ECPv6.15.17//NONSGML v1.0//EN
CALSCALE:GREGORIAN
METHOD:PUBLISH
X-ORIGINAL-URL:https://efttraining.com.au
X-WR-CALDESC:Events for EFT and Matrix Reimprinting Training
REFRESH-INTERVAL;VALUE=DURATION:PT1H
X-Robots-Tag:noindex
X-PUBLISHED-TTL:PT1H
BEGIN:VTIMEZONE
TZID:Australia/Brisbane
BEGIN:STANDARD
TZOFFSETFROM:+1000
TZOFFSETTO:+1000
TZNAME:AEST
DTSTART:20240101T000000
END:STANDARD
END:VTIMEZONE
BEGIN:VEVENT
DTSTART;TZID=Australia/Brisbane:20250717T000000
DTEND;TZID=Australia/Brisbane:20250904T000000
DTSTAMP:20260422T220841
CREATED:20250630T105222Z
LAST-MODIFIED:20250708T012422Z
UID:2798-1752710400-1756944000@efttraining.com.au
SUMMARY:Heal Your Past Lives to Transform the Present – Matrix Past Life Reimprinting Online
DESCRIPTION:🌟 Matrix Past Life Reimprinting (MPLR) – 7-Week Online Course\nExplore\, Heal & Transform Through the Lens of Past LivesLive on Zoom | Starts July 17\, 2025Celebrating 11 Years Since My Awakening – One-Time Special Pricing \n\n✨ A Life-Changing Journey Begins July 17\nIn celebration of the 11-year anniversary of my personal awakening (31st July 2013)\, I invite you to join this rare opportunity to immerse yourself in the transformative practice of Matrix Past Life Reimprinting (MPLR). One of the sessions even falls on the anniversary date! \nThis 7-week online course is ideal for practitioners and healing professionals who have already completed the Matrix Reimprinting Foundation Course and are ready to take their skills—and personal healing—to the next level. \n\n🗓 Weekly Schedule – Global Time Zone Access\n\n\nDates: July 17\, 24\, 31 | August 7\, 14 (2 week break) 28| Final Session: September 4 \n\n\nSession Times: Choose from 6.00 AM or 6:00 PM AEST (Brisbane/Sydney/Melbourne) \n\nSee link below for your own time zone\nhttps://savvytime.com/converter/aest\n\nDuration: 2 hours each session \n\n\nReplay Access: Video & audio recordings provided weekly \n\n\nCourse Materials: PDF of Power-point slides \n\n\nInteractive Learning: Time for live Q&A\, demos\, and peer swap sessions encouraged between classes \n\n\n\n💡 What You’ll Learn\nThe course blends healing protocols\, soul exploration\, and practical tools to clear blocks rooted in unresolved past life trauma. Content includes: \n✳️ Week-by-Week Core Content\n\n\nThe Journey of MPLR Till Now – How the work has evolved \n\n\nMy Personal Matrix Past Life Story – What ignited this path \n\n\nThe Matrix Past Life Reimprinting Protocol – Step-by-step guide for sessions \n\n\nThe Power of Surrogate MPLR – Working on behalf of others energetically \n\n\nMeta Health Concepts related to: \n\n\nThe Skeletal System \n\n\nAggression \n\n\nAutism \n\n\nPTSD \n\n\nFear of Flying \n\n\n\n\n🔮 Advanced Healing & Spiritual Topics\n\n\nAncestral Healing – How MPLR can help clear generational trauma patterns \n\n\nSoul Connections & Karma – Work with soul contracts and karmic ties \n\n\nEntities & Energy Attachments – Identify and resolve energetic influences \n\n\nGuiding Stars – Explore deeper soul direction and life themes \n\n\nHealing Money & Prosperity Blocks – Manifestation and abundance from a past-life perspective \n\n\nPractice\, Demos & Live Feedback – Real-time learning and integration \n\n\n\n💸 One-Time Special Anniversary Pricing\nNew Student: \n\n\nAU$444 (Normally AU$680 – You Save AU$236) \n\n\nUK £211 (Normally £323 – You Save £112) \n\n\nUse XE Currency Converter to calculate other currencies \n\n\nRefresher (Repeat Student): \n\n\nComplimentary (Save AU$250 / £119) \n\n\n\n✅ Why Attend?\n\n\nDeepen your Matrix Reimprinting skills with past life healing tools \n\n\nIdentify the energetic root of recurring blocks and physical conditions \n\n\nExpand your healing scope with soul-level insights and protocols \n\n\nLearn in a supportive global community with flexible attendance \n\n\nNo travel or accommodation costs – Learn from the comfort of home \n\n\n\n✨ What Students Say…\n“This work helped me clear a recurring fear that I now understand came from a life centuries ago — the freedom I now feel is incredible.”— Former MPLR Student \nThe Matrix Past Life Reimprinting session with Caroline gave me both clarity and release.\nI let go of a lot of trapped emotions\, especially fear\, from lifetimes in Spain which I had known about – but they always felt jumbled and inconclusive. Since our session I have noticed that I feel much lighter with a renewed sense of purpose for my next project here on earth. I also feel more clarity about my way forward in this life. I definitely feel as if Caroline’s work is the missing link in the realm of past life recall. It is a known fact that childhood trauma can cause difficulties in adulthood so it follows that past life trauma can be carried from one life to another. \nEndorsement from Hilary H. Carter\nAuthor of ‘The 11:11 Code’ and ‘Numerology Made Easy’ \n  \n🔁 Course Requirements\n\n\nPre-requisite: Completion of the Matrix Reimprinting Foundation Course \n\n\n\n🔐 How to Register\nPayment Options: \n       Apple pay/ Credit or Debit card \n\nhttps://buy.stripe.com/fZueVf9oEa1s42abbs1wY00\n\n  \n\n\nBank Transfer (Australia Only): \n\n\nAccount Name: Emotional Freedom Solutions Pty Ltd \n\n\nBank: NAB \n\n\nBSB: 083 617 \n\n\nAccount: 742771525 \n\n\n\n\nPlease email Caroline at: 1111transform@gmail.comStating your full name\,Best email addressWhich time option suits you (6am or 6pm AEST)Confirmation that you have previously attended the Matrix Reimprinting Foundation Course\n\n\n  \n\n\nAny Questions: Please contact Caroline on M: +61 410417053  or Email: 1111transform@gmail.com
URL:https://efttraining.com.au/event/heal-your-past-lives-to-transform-the-present-matrix-past-life-reimprinting-online/
CATEGORIES:Allergies,Allergies Phobias,Chronic Stress Anxiety Depression,EFT,Grief/Bereavement,Life issues,Matrix Past Life Reimprinting,Matrix Reimprinting,META Health,Relationship Issues,Surrogate healing,Transformtional Experience,Working with serious illness
ATTACH;FMTTYPE=image/jpeg:https://efttraining.com.au/wp-content/uploads/2020/07/home-past-life.jpg
END:VEVENT
END:VCALENDAR